BEGIN:VCALENDAR
VERSION:2.0
PRODID:-//Tukios.com/
BEGIN:VEVENT
UID:403dc9af-9b5e-41b7-9571-0fe79db6c2fb@www.turcottepipermortuary.com
DTSTAMP:20260424T025951Z
DTSTART:20260502T000000Z
DTEND:20260502T010000Z
SUMMARY:Rosary
DESCRIPTION:
URL:https://www.turcottepipermortuary.com/obituaries/maria-sendejo
LOCATION: 205 General Cavazos Blvd  Kingsville TX 78363
GEO:27.4907239;-97.8671858
END:VEVENT
END:VCALENDAR