BEGIN:VCALENDAR
VERSION:2.0
PRODID:-//Tukios.com/
BEGIN:VEVENT
UID:7f80d1ad-2dd2-4990-abd9-1335709f2621@www.turcottepipermortuary.com
DTSTAMP:20260424T030219Z
DTSTART:20260502T161500Z
DTEND:20260502T171500Z
SUMMARY:Burial
DESCRIPTION:
URL:https://www.turcottepipermortuary.com/obituaries/maria-sendejo
LOCATION:St. James Cemetery County Road 4  Bishop TX 78343
GEO:27.5711946;-97.8092482
END:VEVENT
END:VCALENDAR