BEGIN:VCALENDAR
VERSION:2.0
PRODID:-//Tukios.com/
BEGIN:VEVENT
UID:1c514dd8-7871-46f7-afd4-919aa3738b35@www.turcottepipermortuary.com
DTSTAMP:20260424T030219Z
DTSTART:20260502T150000Z
DTEND:20260502T160000Z
SUMMARY:Funeral Mass
DESCRIPTION:
URL:https://www.turcottepipermortuary.com/obituaries/maria-sendejo
LOCATION: 1102 E Kleberg Ave  Kingsville TX 78363
GEO:27.5170661;-97.854263
END:VEVENT
END:VCALENDAR