BEGIN:VCALENDAR
VERSION:2.0
PRODID:-//Tukios.com/
BEGIN:VEVENT
UID:f5380cdc-4a59-472c-a546-120107613e66@www.turcottepipermortuary.com
DTSTAMP:20260424T030622Z
DTSTART:20260501T220000Z
DTEND:20260501T230000Z
SUMMARY:Condolences
DESCRIPTION:
URL:https://www.turcottepipermortuary.com/obituaries/maria-sendejo
LOCATION: 205 General Cavazos Blvd  Kingsville TX 78363
GEO:27.4906327;-97.8671858
END:VEVENT
END:VCALENDAR