BEGIN:VCALENDAR
VERSION:2.0
PRODID:-//Tukios.com/
BEGIN:VEVENT
UID:670fab91-5f10-4a03-8092-720a118e8efc@www.turcottepipermortuary.com
DTSTAMP:20260424T225025Z
DTSTART:20260501T153000Z
DTEND:20260501T163000Z
SUMMARY:Graveside Service and Interment
DESCRIPTION:
URL:https://www.turcottepipermortuary.com/obituaries/jesse-mendez-jr
LOCATION:Family Ranch FM 772  Ricardo TX 78363
GEO:27.3905996;-97.8236046
END:VEVENT
END:VCALENDAR