BEGIN:VCALENDAR
VERSION:2.0
PRODID:-//Tukios.com/
BEGIN:VEVENT
UID:a6ee60c7-fff5-49f5-bdb8-2a3ac7688213@www.turcottepipermortuary.com
DTSTAMP:20260424T225048Z
DTSTART:20260501T000000Z
DTEND:20260501T010000Z
SUMMARY:Holy Rosary
DESCRIPTION:
URL:https://www.turcottepipermortuary.com/obituaries/jesse-mendez-jr
LOCATION: 205 General Cavazos Blvd  Kingsville TX 78363
GEO:27.4907239;-97.8671858
END:VEVENT
END:VCALENDAR