BEGIN:VCALENDAR
VERSION:2.0
PRODID:-//Tukios.com/
BEGIN:VEVENT
UID:92acde87-0e42-4935-b610-90ed359d81d2@www.turcottepipermortuary.com
DTSTAMP:20260424T225017Z
DTSTART:20260501T140000Z
DTEND:20260501T150000Z
SUMMARY:Final Viewing
DESCRIPTION:
URL:https://www.turcottepipermortuary.com/obituaries/jesse-mendez-jr
LOCATION: 205 General Cavazos Blvd  Kingsville TX 78363
GEO:27.4907239;-97.8671858
END:VEVENT
END:VCALENDAR