BEGIN:VCALENDAR
VERSION:2.0
PRODID:-//Tukios.com/
BEGIN:VEVENT
UID:2d9ed87a-b7f2-4649-84f0-6951ff254944@www.turcottepipermortuary.com
DTSTAMP:20260424T224616Z
DTSTART:20260430T220000Z
DTEND:20260501T020000Z
SUMMARY:Visitation
DESCRIPTION:
URL:https://www.turcottepipermortuary.com/obituaries/jesse-mendez-jr
LOCATION: 205 General Cavazos Blvd  Kingsville TX 78363
GEO:27.4907239;-97.8671858
END:VEVENT
END:VCALENDAR