BEGIN:VCALENDAR
VERSION:2.0
PRODID:-//Tukios.com/
BEGIN:VEVENT
UID:e57337e6-fe38-4c4f-9c5a-0138f1446378@www.turcottepipermortuary.com
DTSTAMP:20260422T191755Z
DTSTART:20260516T153000Z
DTEND:20260516T163000Z
SUMMARY:Liturgy
DESCRIPTION:
URL:https://www.turcottepipermortuary.com/obituaries/barbara-benson
LOCATION: 1120 S 8th St  Kingsville TX 78363
GEO:27.5062095;-97.8641249
END:VEVENT
END:VCALENDAR