BEGIN:VCALENDAR
VERSION:2.0
PRODID:-//Tukios.com/
BEGIN:VEVENT
UID:9c5f4fdd-53dd-4ba7-8a21-26e12bcbf727@www.turcottepipermortuary.com
DTSTAMP:20260422T191912Z
DTSTART:20260516T150000Z
DTEND:20260516T153000Z
SUMMARY:Rosary
DESCRIPTION:
URL:https://www.turcottepipermortuary.com/obituaries/barbara-benson
LOCATION: 1120 S 8th St  Kingsville TX 78363
GEO:27.5062095;-97.8641249
END:VEVENT
END:VCALENDAR